BEGIN:VCALENDAR
VERSION:2.0
BEGIN:VEVENT
DTSTART:20260527T013000Z
DTEND:20260527T023000Z
SUMMARY:Powering Europe’s AI Future: The Strategic Role of the Nordics
DESCRIPTION:Exploring how Nordic data center markets are powering Europe's AI infrastructure through renewable energy, scalable capacity, and strategic connectivity.\n\nJoin here: https://w.media/CEE/webinar/webinar-may-2026
URL:https://w.media/CEE/webinar/webinar-may-2026
LOCATION:https://w.media/CEE/webinar/webinar-may-2026
END:VEVENT
END:VCALENDAR