BEGIN:VCALENDAR
VERSION:2.0
BEGIN:VEVENT
DTSTART:20260624T013000Z
DTEND:20260624T023000Z
SUMMARY:From Core to Edge: Rethinking Europe’s Data Center Architecture for the AI Era
DESCRIPTION:How distributed and edge architectures are reshaping data center strategy across Europe to meet the demands of AI, latency, and sovereignty.\n\nJoin here: https://w.media/CEE/webinar/webinar-june-2026
URL:https://w.media/CEE/webinar/webinar-june-2026
LOCATION:https://w.media/CEE/webinar/webinar-june-2026
END:VEVENT
END:VCALENDAR