BEGIN:VCALENDAR
VERSION:2.0
BEGIN:VEVENT
DTSTART:20260722T013000Z
DTEND:20260722T023000Z
SUMMARY:Powering AI in Eastern Europe
DESCRIPTION:Examining the energy infrastructure, investment flows, and policy frameworks enabling AI-ready data centers across Eastern Europe.\n\nJoin here: https://w.media/CEE/webinar/webinar-july-2026
URL:https://w.media/CEE/webinar/webinar-july-2026
LOCATION:https://w.media/CEE/webinar/webinar-july-2026
END:VEVENT
END:VCALENDAR