BEGIN:VCALENDAR
VERSION:2.0
BEGIN:VEVENT
DTSTART:20260826T013000Z
DTEND:20260826T023000Z
SUMMARY:Inside Europe’s Fastest-Growing Data Center Markets:
DESCRIPTION:A deep dive into the emerging data center hubs driving capacity growth, investment, and digital transformation across Europe, particularly focusing on Poland, Finland and Romania.\n\nJoin here: https://w.media/CEE/webinar/webinar-august-2026
URL:https://w.media/CEE/webinar/webinar-august-2026
LOCATION:https://w.media/CEE/webinar/webinar-august-2026
END:VEVENT
END:VCALENDAR