BEGIN:VCALENDAR
VERSION:2.0
BEGIN:VEVENT
DTSTART:20260429T013000Z
DTEND:20260429T023000Z
SUMMARY:Overview of CEE's Datacenter Market and Technological Advancements
DESCRIPTION:Exploring Central and Eastern Europe’s rise as a competitive, sustainable, and high-growth data centre region.\n\nJoin here: https://w.media/CEE/webinar/webinar-april-2026
URL:https://w.media/CEE/webinar/webinar-april-2026
LOCATION:https://w.media/CEE/webinar/webinar-april-2026
END:VEVENT
END:VCALENDAR